BEGIN:VCALENDAR
VERSION:2.0
PRODID:-//Fiere Comics//Evento//IT
CALSCALE:GREGORIAN
BEGIN:VEVENT
UID:fiere-7856@cosplayersitaliani.it
DTSTAMP:20260424T212224Z
DTSTART:20251220T100000Z
DTEND:20251220T190000Z
SUMMARY:Cosplay on Ice 2025
LOCATION:Piazza della Repubblica, Piazza della Repubblica, Monfalcone (GO), Friuli-Venezia Giulia, 34074, Italy
END:VEVENT
END:VCALENDAR
